BEGIN:VCALENDAR
VERSION:2.0
PRODID:-//Healthy Nevada - ECPv6.15.20//NONSGML v1.0//EN
CALSCALE:GREGORIAN
METHOD:PUBLISH
X-WR-CALNAME:Healthy Nevada
X-ORIGINAL-URL:https://healthynevada.net
X-WR-CALDESC:Events for Healthy Nevada
REFRESH-INTERVAL;VALUE=DURATION:PT1H
X-Robots-Tag:noindex
X-PUBLISHED-TTL:PT1H
BEGIN:VTIMEZONE
TZID:UTC
BEGIN:STANDARD
TZOFFSETFROM:+0000
TZOFFSETTO:+0000
TZNAME:UTC
DTSTART:20160101T000000
END:STANDARD
END:VTIMEZONE
BEGIN:VEVENT
DTSTART;TZID=UTC:20170715T080000
DTEND;TZID=UTC:20170715T123000
DTSTAMP:20260420T041633
CREATED:20170705T195908Z
LAST-MODIFIED:20170705T195908Z
UID:15960-1500105600-1500121800@healthynevada.net
SUMMARY:Birth & Beyond Class
DESCRIPTION:NRMC Mezzanine Conference Room\nNew location and updated content for a fresh and fun experience for the mother and labor coach. \nOne-day course for women in their last trimester of pregnancy. This class is instructed by a registered nurse and includes information about labor\, delivery\, breastfeeding and caring for your newborn. Also includes a tour of the OB\, pending availability. \n$15 Registration Fee\nTo register for this class online now\, click here or call (417) 448-3622.
URL:https://healthynevada.net/event/birth-beyond-class/
LOCATION:NRMC Mezzainine Conference Room\, 800 S. Ash Street\, Nevada\, MO\, 64772\, United States
END:VEVENT
BEGIN:VEVENT
DTSTART;TZID=UTC:20170715T080000
DTEND;TZID=UTC:20170715T120000
DTSTAMP:20260420T041633
CREATED:20170705T202416Z
LAST-MODIFIED:20170705T202416Z
UID:15979-1500105600-1500120000@healthynevada.net
SUMMARY:Vernon County Farmer's Market
DESCRIPTION:
URL:https://healthynevada.net/event/vernon-county-farmers-market-8/
LOCATION:Fair Grounds\, Nevada\, MO\, 64772\, United States
ORGANIZER;CN="Vernon County Farmer's Market":MAILTO:kelly.ast@healthynevada.net 
END:VEVENT
BEGIN:VEVENT
DTSTART;TZID=UTC:20170713T180000
DTEND;TZID=UTC:20170713T203000
DTSTAMP:20260420T041633
CREATED:20170705T195729Z
LAST-MODIFIED:20170705T195729Z
UID:15958-1499968800-1499977800@healthynevada.net
SUMMARY:Tuesday/Thursday Childbirth Class
DESCRIPTION:NRMC Mezzanine Conference Room\nTwo-part course for women in their last trimester of pregnancy. This class is instructed by a registered nurse and includes information about labor\, delivery\, breastfeeding and caring for your newborn. Also includes a tour of the OB. \n$15 Registration Fee\nTo register for this class online now\, click here or call (417) 448-3622.
URL:https://healthynevada.net/event/tuesdaythursday-childbirth-class-2/
LOCATION:NRMC Mezzainine Conference Room\, 800 S. Ash Street\, Nevada\, MO\, 64772\, United States
END:VEVENT
BEGIN:VEVENT
DTSTART;TZID=UTC:20170712T160000
DTEND;TZID=UTC:20170712T180000
DTSTAMP:20260420T041633
CREATED:20170705T201429Z
LAST-MODIFIED:20170705T202324Z
UID:15973-1499875200-1499882400@healthynevada.net
SUMMARY:Vernon County Farmer's Market
DESCRIPTION:
URL:https://healthynevada.net/event/vernon-county-farmerss/
LOCATION:Fair Grounds\, Nevada\, MO\, 64772\, United States
ORGANIZER;CN="Vernon County Farmer's Market":MAILTO:kelly.ast@healthynevada.net 
END:VEVENT
BEGIN:VEVENT
DTSTART;TZID=UTC:20170711T180000
DTEND;TZID=UTC:20170711T203000
DTSTAMP:20260420T041633
CREATED:20170705T195550Z
LAST-MODIFIED:20170705T195550Z
UID:15956-1499796000-1499805000@healthynevada.net
SUMMARY:Tuesday/Thursday Childbirth Class
DESCRIPTION:NRMC Mezzanine Conference Room\nTwo-part course for women in their last trimester of pregnancy. This class is instructed by a registered nurse and includes information about labor\, delivery\, breastfeeding and caring for your newborn. Also includes a tour of the OB. \n$15 Registration Fee\nTo register for this class online now\, click here or call (417) 448-3622.
URL:https://healthynevada.net/event/tuesdaythursday-childbirth-class/
LOCATION:NRMC Mezzainine Conference Room\, 800 S. Ash Street\, Nevada\, MO\, 64772\, United States
END:VEVENT
BEGIN:VEVENT
DTSTART;TZID=UTC:20170709T160000
DTEND;TZID=UTC:20170709T180000
DTSTAMP:20260420T041633
CREATED:20170727T201355Z
LAST-MODIFIED:20170727T201441Z
UID:16012-1499616000-1499623200@healthynevada.net
SUMMARY:Vernon County Farmer's Market
DESCRIPTION:
URL:https://healthynevada.net/event/vernon-county-farmers-market-14/
LOCATION:Fair Grounds\, Nevada\, MO\, 64772\, United States
END:VEVENT
BEGIN:VEVENT
DTSTART;TZID=UTC:20170708T080000
DTEND;TZID=UTC:20170708T120000
DTSTAMP:20260420T041633
CREATED:20170705T201000Z
LAST-MODIFIED:20170705T201000Z
UID:15971-1499500800-1499515200@healthynevada.net
SUMMARY:Vernon County Farmer's Market
DESCRIPTION:
URL:https://healthynevada.net/event/vernon-county-farmers-market-6/
LOCATION:Fair Grounds\, Nevada\, MO\, 64772\, United States
ORGANIZER;CN="Vernon County Farmer's Market":MAILTO:kelly.ast@healthynevada.net 
END:VEVENT
BEGIN:VEVENT
DTSTART;TZID=UTC:20170707T120000
DTEND;TZID=UTC:20170707T130000
DTSTAMP:20260420T041633
CREATED:20170705T195318Z
LAST-MODIFIED:20170705T195318Z
UID:15954-1499428800-1499432400@healthynevada.net
SUMMARY:Lunch and Learn: Essential Oils
DESCRIPTION:“Making Room for Essential Oils”\n\n\npresented by Bobbi Ogle\n\n\nLearn how essential oils can promote a healthy lifestyle.\n\n\nNRMC Mezzanine Conference Room\n\n\nLunch and Learn 12 – 1 P.M. • Friday\, July 7\n\n\nFree to attend. Bring your lunch or reserve one for $3. Register by calling (417) 448-3622 or register online now.
URL:https://healthynevada.net/event/lunch-learn-essential-oils/
LOCATION:NRMC Mezzainine Conference Room\, 800 S. Ash Street\, Nevada\, MO\, 64772\, United States
END:VEVENT
BEGIN:VEVENT
DTSTART;TZID=UTC:20170705T160000
DTEND;TZID=UTC:20170705T180000
DTSTAMP:20260420T041633
CREATED:20170705T200852Z
LAST-MODIFIED:20170705T200852Z
UID:15969-1499270400-1499277600@healthynevada.net
SUMMARY:Vernon County Farmer's Market
DESCRIPTION:
URL:https://healthynevada.net/event/vernon-county-farmers-market-5/
LOCATION:Fair Grounds\, Nevada\, MO\, 64772\, United States
ORGANIZER;CN="Vernon County Farmer's Market":MAILTO:kelly.ast@healthynevada.net 
END:VEVENT
BEGIN:VEVENT
DTSTART;TZID=UTC:20170629T180000
DTEND;TZID=UTC:20170629T200000
DTSTAMP:20260420T041633
CREATED:20170606T140310Z
LAST-MODIFIED:20170606T140310Z
UID:15951-1498759200-1498766400@healthynevada.net
SUMMARY:Music on the Square
DESCRIPTION:Nevada City Square \nMusic: Paula Grey
URL:https://healthynevada.net/event/music-on-the-square-2/
LOCATION:Nevada Square\, Nevada\, MO\, 64772\, United States
END:VEVENT
BEGIN:VEVENT
DTSTART;TZID=UTC:20170625T120000
DTEND;TZID=UTC:20170625T160000
DTSTAMP:20260420T041633
CREATED:20170606T140101Z
LAST-MODIFIED:20170606T140101Z
UID:15948-1498392000-1498406400@healthynevada.net
SUMMARY:Designer Purse Bingo - NRMC
DESCRIPTION:NRMC Foundation is proud to host the 3rd Annual Designer Purse Bingo. Gaining popularity with each year\, you’re sure to have a great time playing bingo with friends and hopefully\, winning a designer purse! Your ticket includes appetizers and a bingo card for each regular game of bingo. \nTo purchase tickets\, call (417) 448-3620 or visit our website. \nTikets available at: \nhttps://www.nrmchealth.com/foundation/events/purse_bingo_registration.aspx
URL:https://healthynevada.net/event/designer-purse-bingo-nrmc/
LOCATION:Nevada Elks Bingo Hall\, 510 Centennial Blvd\, Nevada\, MO\, 64772\, United States
END:VEVENT
BEGIN:VEVENT
DTSTART;TZID=UTC:20170624T220000
DTEND;TZID=UTC:20170625T000000
DTSTAMP:20260420T041633
CREATED:20170606T135408Z
LAST-MODIFIED:20170606T135408Z
UID:15945-1498341600-1498348800@healthynevada.net
SUMMARY:5K Glow Walk/Run - Relay for Life
DESCRIPTION:Join us at the square in Nevada\, MO on Saturday\, June 24 to help fight cancer! Vernon County’s Rock Out to Knock Out Cancer themed Relay is sure to be fun for the whole family! \nFor more details and to form or join a team\, visit RelayForLife.org/VernonCoMO or send Vernon County Relay for Life a Facebook message.
URL:https://healthynevada.net/event/5k-glow-walkrun-relay-life/
LOCATION:Nevada Square\, Nevada\, MO\, 64772\, United States
END:VEVENT
BEGIN:VEVENT
DTSTART;TZID=UTC:20170624T080000
DTEND;TZID=UTC:20170624T120000
DTSTAMP:20260420T041633
CREATED:20170606T134624Z
LAST-MODIFIED:20170606T134624Z
UID:15943-1498291200-1498305600@healthynevada.net
SUMMARY:Vernon County Farmer's Market
DESCRIPTION:Centennial Park Fairgrounds\nFor Questions Contact Kelly Ast at\n\n\n\n\n (417) 667-1448\nkelly.ast@healthynevada.net
URL:https://healthynevada.net/event/vernon-county-farmers-market-4/
LOCATION:Fair Grounds\, Nevada\, MO\, 64772\, United States
ORGANIZER;CN="Vernon County Farmer's Market":MAILTO:kelly.ast@healthynevada.net 
END:VEVENT
BEGIN:VEVENT
DTSTART;TZID=UTC:20170621T104500
DTEND;TZID=UTC:20170621T120000
DTSTAMP:20260420T041633
CREATED:20170605T205027Z
LAST-MODIFIED:20170605T205109Z
UID:15940-1498041900-1498046400@healthynevada.net
SUMMARY:Blood Pressure Screening
DESCRIPTION:Vernon County Senior Center \nAddress: 301 N Main St\, Nevada\, MO 64772\n\n\n\n\nPhone: (417) 667-5847
URL:https://healthynevada.net/event/blood-pressure-screening/
LOCATION:Vernon County Senior Center
END:VEVENT
BEGIN:VEVENT
DTSTART;TZID=UTC:20170617T080000
DTEND;TZID=UTC:20170617T120000
DTSTAMP:20260420T041633
CREATED:20170605T201933Z
LAST-MODIFIED:20170605T201933Z
UID:15935-1497686400-1497700800@healthynevada.net
SUMMARY:Vernon County Farmer's Market
DESCRIPTION:Vernon County Fair Grounds \nContact Kelly Ast 417-667-1448
URL:https://healthynevada.net/event/vernon-county-farmers-market-3/
LOCATION:Fair Grounds\, Nevada\, MO\, 64772\, United States
ORGANIZER;CN="Vernon County Farmer's Market":MAILTO:kelly.ast@healthynevada.net 
END:VEVENT
BEGIN:VEVENT
DTSTART;TZID=UTC:20170610T080000
DTEND;TZID=UTC:20170610T120000
DTSTAMP:20260420T041633
CREATED:20170605T201341Z
LAST-MODIFIED:20170605T201451Z
UID:15931-1497081600-1497096000@healthynevada.net
SUMMARY:Vernon County Famer's Market
DESCRIPTION:Vernon County Fair Grounds \nContact Kelly Ast\n417-667-1448 \n 
URL:https://healthynevada.net/event/vernon-county-famers-market/
LOCATION:Fair Grounds\, Nevada\, MO\, 64772\, United States
END:VEVENT
BEGIN:VEVENT
DTSTART;TZID=UTC:20170605T110000
DTEND;TZID=UTC:20170605T130000
DTSTAMP:20260420T041633
CREATED:20170605T200832Z
LAST-MODIFIED:20170605T200832Z
UID:15927-1496660400-1496667600@healthynevada.net
SUMMARY:Free Skin Cancer Screening
DESCRIPTION:Provided by Dr. Jacqueline Youtsos\, FP specializing in Dermatology\nat Mezzanine Conference Room\nTo make an appointment\, call (417) 448-3622 or visit NRMC’s Website https://www.nrmchealth.com
URL:https://healthynevada.net/event/free-skin-cancer-screening/
LOCATION:NRMC Mezzainine Conference Room\, 800 S. Ash Street\, Nevada\, MO\, 64772\, United States
END:VEVENT
BEGIN:VEVENT
DTSTART;TZID=UTC:20170601T180000
DTEND;TZID=UTC:20170601T200000
DTSTAMP:20260420T041633
CREATED:20170605T200217Z
LAST-MODIFIED:20170605T200217Z
UID:15924-1496340000-1496347200@healthynevada.net
SUMMARY:Music on the Square
DESCRIPTION:Tim Wells \n 
URL:https://healthynevada.net/event/music-on-the-square/
LOCATION:Nevada Square\, Nevada\, MO\, 64772\, United States
END:VEVENT
BEGIN:VEVENT
DTSTART;TZID=UTC:20170531T153000
DTEND;TZID=UTC:20170531T163000
DTSTAMP:20260420T041633
CREATED:20170512T164729Z
LAST-MODIFIED:20170512T164729Z
UID:15864-1496244600-1496248200@healthynevada.net
SUMMARY:Self Determination Class - On My Own
DESCRIPTION:
URL:https://healthynevada.net/event/self-determination-class-on-my-own-2/
LOCATION:MO
END:VEVENT
BEGIN:VEVENT
DTSTART;TZID=UTC:20170531T130000
DTEND;TZID=UTC:20170531T140000
DTSTAMP:20260420T041633
CREATED:20170512T164710Z
LAST-MODIFIED:20170512T164710Z
UID:15862-1496235600-1496239200@healthynevada.net
SUMMARY:Social & Life Skills Class - On My Own
DESCRIPTION:
URL:https://healthynevada.net/event/social-life-skills-class-on-my-own-2/
LOCATION:MO
END:VEVENT
BEGIN:VEVENT
DTSTART;TZID=UTC:20170530T130000
DTEND;TZID=UTC:20170530T150000
DTSTAMP:20260420T041633
CREATED:20170512T164639Z
LAST-MODIFIED:20170512T164639Z
UID:15860-1496149200-1496156400@healthynevada.net
SUMMARY:Cooking & Household Skills - On My Own
DESCRIPTION:
URL:https://healthynevada.net/event/cooking-household-skills-on-my-own-3/
LOCATION:MO
END:VEVENT
BEGIN:VEVENT
DTSTART;TZID=UTC:20170530T110000
DTEND;TZID=UTC:20170530T120000
DTSTAMP:20260420T041633
CREATED:20170512T164609Z
LAST-MODIFIED:20170512T164609Z
UID:15858-1496142000-1496145600@healthynevada.net
SUMMARY:Strength and Balance
DESCRIPTION:
URL:https://healthynevada.net/event/strength-and-balance-3/
LOCATION:MO
END:VEVENT
BEGIN:VEVENT
DTSTART;TZID=UTC:20170529T130000
DTEND;TZID=UTC:20170529T140000
DTSTAMP:20260420T041633
CREATED:20170512T164534Z
LAST-MODIFIED:20170512T164534Z
UID:15856-1496062800-1496066400@healthynevada.net
SUMMARY:Job Skills and Training - On My Own
DESCRIPTION:
URL:https://healthynevada.net/event/job-skills-and-training-on-my-own-3/
LOCATION:MO
END:VEVENT
BEGIN:VEVENT
DTSTART;TZID=UTC:20170527T080000
DTEND;TZID=UTC:20170527T120000
DTSTAMP:20260420T041633
CREATED:20170512T164510Z
LAST-MODIFIED:20170512T164510Z
UID:15854-1495872000-1495886400@healthynevada.net
SUMMARY:Vernon County Farmer's Market
DESCRIPTION:
URL:https://healthynevada.net/event/vernon-county-farmers-market-2/
LOCATION:MO
END:VEVENT
BEGIN:VEVENT
DTSTART;TZID=UTC:20170523T130000
DTEND;TZID=UTC:20170523T150000
DTSTAMP:20260420T041633
CREATED:20170512T164441Z
LAST-MODIFIED:20170512T164441Z
UID:15852-1495544400-1495551600@healthynevada.net
SUMMARY:Cooking & Household Skills - On My Own
DESCRIPTION:
URL:https://healthynevada.net/event/cooking-household-skills-on-my-own-2/
LOCATION:MO
END:VEVENT
BEGIN:VEVENT
DTSTART;TZID=UTC:20170523T110000
DTEND;TZID=UTC:20170523T120000
DTSTAMP:20260420T041633
CREATED:20170512T164414Z
LAST-MODIFIED:20170512T164414Z
UID:15850-1495537200-1495540800@healthynevada.net
SUMMARY:Strength and Balance
DESCRIPTION:
URL:https://healthynevada.net/event/strength-and-balance-2/
LOCATION:MO
END:VEVENT
BEGIN:VEVENT
DTSTART;TZID=UTC:20170522T130000
DTEND;TZID=UTC:20170522T140000
DTSTAMP:20260420T041633
CREATED:20170512T164339Z
LAST-MODIFIED:20170512T164339Z
UID:15848-1495458000-1495461600@healthynevada.net
SUMMARY:Job Skills and Training - On My Own
DESCRIPTION:
URL:https://healthynevada.net/event/job-skills-and-training-on-my-own-2/
LOCATION:MO
END:VEVENT
BEGIN:VEVENT
DTSTART;TZID=UTC:20170520T080000
DTEND;TZID=UTC:20170520T170000
DTSTAMP:20260420T041633
CREATED:20170512T163917Z
LAST-MODIFIED:20170512T163917Z
UID:15840-1495267200-1495299600@healthynevada.net
SUMMARY:Run\, Walk and Roll presented by Metz Banking Co
DESCRIPTION:
URL:https://healthynevada.net/event/run-walk-and-roll-presented-by-metz-banking-co/
LOCATION:MO
END:VEVENT
BEGIN:VEVENT
DTSTART;TZID=UTC:20170520T080000
DTEND;TZID=UTC:20170520T123000
DTSTAMP:20260420T041633
CREATED:20170512T163950Z
LAST-MODIFIED:20170512T163950Z
UID:15842-1495267200-1495283400@healthynevada.net
SUMMARY:NRMC Childbirth/Breastfeeding Class
DESCRIPTION:
URL:https://healthynevada.net/event/nrmc-childbirthbreastfeeding-class-3/
LOCATION:Media Arts Building
END:VEVENT
BEGIN:VEVENT
DTSTART;TZID=UTC:20170520T080000
DTEND;TZID=UTC:20170520T120000
DTSTAMP:20260420T041633
CREATED:20170512T164018Z
LAST-MODIFIED:20170512T164308Z
UID:15844-1495267200-1495281600@healthynevada.net
SUMMARY:Vernon County Farmer's Market
DESCRIPTION:
URL:https://healthynevada.net/event/vernon-county-farmers-market/
LOCATION:MO
END:VEVENT
END:VCALENDAR