BEGIN:VCALENDAR
VERSION:2.0
PRODID:-//Healthy Nevada - ECPv6.15.20//NONSGML v1.0//EN
CALSCALE:GREGORIAN
METHOD:PUBLISH
X-ORIGINAL-URL:https://healthynevada.net
X-WR-CALDESC:Events for Healthy Nevada
REFRESH-INTERVAL;VALUE=DURATION:PT1H
X-Robots-Tag:noindex
X-PUBLISHED-TTL:PT1H
BEGIN:VTIMEZONE
TZID:UTC
BEGIN:STANDARD
TZOFFSETFROM:+0000
TZOFFSETTO:+0000
TZNAME:UTC
DTSTART:20160101T000000
END:STANDARD
END:VTIMEZONE
BEGIN:VEVENT
DTSTART;TZID=UTC:20170913T160000
DTEND;TZID=UTC:20170913T180000
DTSTAMP:20260419T230843
CREATED:20170830T190722Z
LAST-MODIFIED:20170830T190722Z
UID:16091-1505318400-1505325600@healthynevada.net
SUMMARY:Nevada/Vernon County Farmers Market
DESCRIPTION:
URL:https://healthynevada.net/event/nevadavernon-county-farmers-market/
LOCATION:Fair Grounds\, Nevada\, MO\, 64772\, United States
ORGANIZER;CN="Vernon County Farmer's Market":MAILTO:kelly.ast@healthynevada.net 
END:VEVENT
BEGIN:VEVENT
DTSTART;TZID=UTC:20170913T153000
DTEND;TZID=UTC:20170913T163000
DTSTAMP:20260419T230843
CREATED:20170830T184900Z
LAST-MODIFIED:20170830T185123Z
UID:16076-1505316600-1505320200@healthynevada.net
SUMMARY:Self Determination Class - On My Own
DESCRIPTION:
URL:https://healthynevada.net/event/self-determination-class-2/
LOCATION:On My Own\, 428 E Highland Ave\, Nevada\, MO\, 64772\, United States
END:VEVENT
BEGIN:VEVENT
DTSTART;TZID=UTC:20170913T130000
DTEND;TZID=UTC:20170913T140000
DTSTAMP:20260419T230843
CREATED:20170830T185627Z
LAST-MODIFIED:20170830T185627Z
UID:16085-1505307600-1505311200@healthynevada.net
SUMMARY:Social & Life Skills Class - On My Own
DESCRIPTION:
URL:https://healthynevada.net/event/social-life-skills-class-3/
LOCATION:On My Own\, 428 E Highland Ave\, Nevada\, MO\, 64772\, United States
END:VEVENT
BEGIN:VEVENT
DTSTART;TZID=UTC:20170913T110000
DTEND;TZID=UTC:20170913T120000
DTSTAMP:20260419T230843
CREATED:20170830T195049Z
LAST-MODIFIED:20170830T195049Z
UID:16109-1505300400-1505304000@healthynevada.net
SUMMARY:Character Champion Launch & proclamation signing
DESCRIPTION:
URL:https://healthynevada.net/event/character-champion-launch-proclamation-signing/
LOCATION:Nevada Court House\, 100 W. Cherry St.\, Nevada\, MO\, 64772\, United States
END:VEVENT
BEGIN:VEVENT
DTSTART;TZID=UTC:20170912T180000
DTEND;TZID=UTC:20170912T200000
DTSTAMP:20260419T230843
CREATED:20170830T193150Z
LAST-MODIFIED:20170830T193150Z
UID:16105-1505239200-1505246400@healthynevada.net
SUMMARY:Birth & Beyond Class - NRMC
DESCRIPTION:
URL:https://healthynevada.net/event/birth-beyond-class-nrmc/
LOCATION:MO
END:VEVENT
BEGIN:VEVENT
DTSTART;TZID=UTC:20170912T130000
DTEND;TZID=UTC:20170912T150000
DTSTAMP:20260419T230843
CREATED:20170830T182432Z
LAST-MODIFIED:20170830T182432Z
UID:16068-1505221200-1505228400@healthynevada.net
SUMMARY:Cooking & Household Skills - On My Own
DESCRIPTION:
URL:https://healthynevada.net/event/cooking-household-skills-2/
LOCATION:On My Own\, 428 E Highland Ave\, Nevada\, MO\, 64772\, United States
END:VEVENT
BEGIN:VEVENT
DTSTART;TZID=UTC:20170912T110000
DTEND;TZID=UTC:20170912T120000
DTSTAMP:20260419T230843
CREATED:20170830T181253Z
LAST-MODIFIED:20170830T181253Z
UID:16059-1505214000-1505217600@healthynevada.net
SUMMARY:Budgeting Class - On My Own
DESCRIPTION:
URL:https://healthynevada.net/event/budgeting-class-on-my-own/
LOCATION:On My Own\, 428 E Highland Ave\, Nevada\, MO\, 64772\, United States
END:VEVENT
BEGIN:VEVENT
DTSTART;TZID=UTC:20170911T130000
DTEND;TZID=UTC:20170911T140000
DTSTAMP:20260419T230843
CREATED:20170830T174050Z
LAST-MODIFIED:20170830T174050Z
UID:16053-1505134800-1505138400@healthynevada.net
SUMMARY:Job Skills and Training - On My Own
DESCRIPTION:
URL:https://healthynevada.net/event/job-skills-training-2/
LOCATION:On My Own\, 428 E Highland Ave\, Nevada\, MO\, 64772\, United States
END:VEVENT
BEGIN:VEVENT
DTSTART;TZID=UTC:20170909T080000
DTEND;TZID=UTC:20170909T120000
DTSTAMP:20260419T230843
CREATED:20170830T191004Z
LAST-MODIFIED:20170830T191004Z
UID:16097-1504944000-1504958400@healthynevada.net
SUMMARY:Nevada/Vernon County Farmers Market
DESCRIPTION:
URL:https://healthynevada.net/event/nevadavernon-county-farmers-market-4/
LOCATION:Fair Grounds\, Nevada\, MO\, 64772\, United States
ORGANIZER;CN="Vernon County Farmer's Market":MAILTO:kelly.ast@healthynevada.net 
END:VEVENT
BEGIN:VEVENT
DTSTART;TZID=UTC:20170907T180000
DTEND;TZID=UTC:20170907T200000
DTSTAMP:20260419T230843
CREATED:20170830T173832Z
LAST-MODIFIED:20170830T173832Z
UID:16051-1504807200-1504814400@healthynevada.net
SUMMARY:Music on the Square - Matthew Harper
DESCRIPTION:
URL:https://healthynevada.net/event/music-square-matthew-harper/
LOCATION:Nevada Square\, Nevada\, MO\, 64772\, United States
END:VEVENT
BEGIN:VEVENT
DTSTART;TZID=UTC:20170906T160000
DTEND;TZID=UTC:20170906T180000
DTSTAMP:20260419T230843
CREATED:20170830T173526Z
LAST-MODIFIED:20170830T173526Z
UID:16046-1504713600-1504720800@healthynevada.net
SUMMARY:Vernon County Farmer's Market
DESCRIPTION:
URL:https://healthynevada.net/event/vernon-county-farmers-market-18/
LOCATION:Fair Grounds\, Nevada\, MO\, 64772\, United States
ORGANIZER;CN="Vernon County Farmer's Market":MAILTO:kelly.ast@healthynevada.net 
END:VEVENT
BEGIN:VEVENT
DTSTART;TZID=UTC:20170906T153000
DTEND;TZID=UTC:20170906T163000
DTSTAMP:20260419T230843
CREATED:20170830T183100Z
LAST-MODIFIED:20170830T183100Z
UID:16074-1504711800-1504715400@healthynevada.net
SUMMARY:Self Determination Class - On My Own
DESCRIPTION:
URL:https://healthynevada.net/event/self-determination-class/
LOCATION:On My Own\, 428 E Highland Ave\, Nevada\, MO\, 64772\, United States
END:VEVENT
BEGIN:VEVENT
DTSTART;TZID=UTC:20170906T130000
DTEND;TZID=UTC:20170906T140000
DTSTAMP:20260419T230843
CREATED:20170830T185529Z
LAST-MODIFIED:20170830T185529Z
UID:16083-1504702800-1504706400@healthynevada.net
SUMMARY:Social & Life Skills Class - On My Own
DESCRIPTION:
URL:https://healthynevada.net/event/social-life-skills-class-2/
LOCATION:On My Own\, 428 E Highland Ave\, Nevada\, MO\, 64772\, United States
END:VEVENT
BEGIN:VEVENT
DTSTART;TZID=UTC:20170906T130000
DTEND;TZID=UTC:20170906T140000
DTSTAMP:20260419T230843
CREATED:20170830T173718Z
LAST-MODIFIED:20170830T173718Z
UID:16048-1504702800-1504706400@healthynevada.net
SUMMARY:Social & Life Skills Class - On My Own
DESCRIPTION:
URL:https://healthynevada.net/event/social-life-skills-class/
LOCATION:On My Own\, 428 E Highland Ave\, Nevada\, MO\, 64772\, United States
END:VEVENT
BEGIN:VEVENT
DTSTART;TZID=UTC:20170905T130000
DTEND;TZID=UTC:20170905T150000
DTSTAMP:20260419T230843
CREATED:20170830T164239Z
LAST-MODIFIED:20170830T164239Z
UID:16042-1504616400-1504623600@healthynevada.net
SUMMARY:Cooking & Household Skills - On My Own
DESCRIPTION:
URL:https://healthynevada.net/event/cooking-household-skills/
LOCATION:On My Own\, 428 E Highland Ave\, Nevada\, MO\, 64772\, United States
END:VEVENT
BEGIN:VEVENT
DTSTART;TZID=UTC:20170905T110000
DTEND;TZID=UTC:20170905T120000
DTSTAMP:20260419T230843
CREATED:20170830T181419Z
LAST-MODIFIED:20170830T181601Z
UID:16061-1504609200-1504612800@healthynevada.net
SUMMARY:Budgeting Class - On My Own
DESCRIPTION:
URL:https://healthynevada.net/event/budgeting-class-on-my-own-2/
LOCATION:On My Own\, 428 E Highland Ave\, Nevada\, MO\, 64772\, United States
END:VEVENT
BEGIN:VEVENT
DTSTART;VALUE=DATE:20170904
DTEND;VALUE=DATE:20170905
DTSTAMP:20260419T230843
CREATED:20170905T144042Z
LAST-MODIFIED:20170905T144042Z
UID:16115-1504483200-1504569599@healthynevada.net
SUMMARY:Healthy Nevada Closed
DESCRIPTION:
URL:https://healthynevada.net/event/healthy-nevada-closed/
LOCATION:Healthy Nevada Innovation Center\, 212 W. Walnut Suite B\, Nevada\, MO\, 64772\, United States
ORGANIZER;CN="Healthy Nevada":MAILTO:inbox@healthynevada.net
END:VEVENT
BEGIN:VEVENT
DTSTART;TZID=UTC:20170902T080000
DTEND;TZID=UTC:20170902T120000
DTSTAMP:20260419T230843
CREATED:20170830T165810Z
LAST-MODIFIED:20170830T165810Z
UID:16044-1504339200-1504353600@healthynevada.net
SUMMARY:Vernon County Farmer's Market
DESCRIPTION:
URL:https://healthynevada.net/event/vernon-county-farmers-market-17/
LOCATION:Fair Grounds\, Nevada\, MO\, 64772\, United States
ORGANIZER;CN="Vernon County Farmer's Market":MAILTO:kelly.ast@healthynevada.net 
END:VEVENT
BEGIN:VEVENT
DTSTART;TZID=UTC:20170812T080000
DTEND;TZID=UTC:20170812T120000
DTSTAMP:20260419T230843
CREATED:20170727T204027Z
LAST-MODIFIED:20170727T204027Z
UID:16014-1502524800-1502539200@healthynevada.net
SUMMARY:Vernon County Farmer's Market
DESCRIPTION:
URL:https://healthynevada.net/event/vernon-county-farmers-market-15/
LOCATION:MO
END:VEVENT
BEGIN:VEVENT
DTSTART;TZID=UTC:20170809T160000
DTEND;TZID=UTC:20170809T180000
DTSTAMP:20260419T230843
CREATED:20170727T204153Z
LAST-MODIFIED:20170727T204153Z
UID:16017-1502294400-1502301600@healthynevada.net
SUMMARY:Vernon County Farmer's Market
DESCRIPTION:
URL:https://healthynevada.net/event/vernon-county-farmers-market-16/
LOCATION:Vernon County Fair Grounds
ORGANIZER;CN="Vernon County Farmer's Market":MAILTO:kelly.ast@healthynevada.net 
END:VEVENT
BEGIN:VEVENT
DTSTART;TZID=UTC:20170809T130000
DTEND;TZID=UTC:20170809T170000
DTSTAMP:20260419T230843
CREATED:20170727T195827Z
LAST-MODIFIED:20170727T201634Z
UID:16008-1502283600-1502298000@healthynevada.net
SUMMARY:Blood Drive
DESCRIPTION:BLOOD DRIVE\nTime\n1:00 PM to 5:00 PM\nDetails\nMoore-Few Care Center Community Room\nMore information call 448-3622
URL:https://healthynevada.net/event/blood-drive/
LOCATION:Moorefew Care Center
END:VEVENT
BEGIN:VEVENT
DTSTART;TZID=UTC:20170805T080000
DTEND;TZID=UTC:20170805T120000
DTSTAMP:20260419T230843
CREATED:20170727T193441Z
LAST-MODIFIED:20170727T193441Z
UID:16006-1501920000-1501934400@healthynevada.net
SUMMARY:Vernon County Farmer's Market
DESCRIPTION:
URL:https://healthynevada.net/event/vernon-county-farmers-market-13/
LOCATION:Fair Grounds\, Nevada\, MO\, 64772\, United States
END:VEVENT
BEGIN:VEVENT
DTSTART;TZID=UTC:20170803T180000
DTEND;TZID=UTC:20170803T200000
DTSTAMP:20260419T230843
CREATED:20170727T193237Z
LAST-MODIFIED:20170727T193237Z
UID:16004-1501783200-1501790400@healthynevada.net
SUMMARY:Music on the Square
DESCRIPTION:Paula Newman & Friends
URL:https://healthynevada.net/event/music-on-the-square-3/
LOCATION:MO
END:VEVENT
BEGIN:VEVENT
DTSTART;TZID=UTC:20170802T160000
DTEND;TZID=UTC:20170802T180000
DTSTAMP:20260419T230843
CREATED:20170727T192930Z
LAST-MODIFIED:20170727T192930Z
UID:16002-1501689600-1501696800@healthynevada.net
SUMMARY:Vernon County Farmer's Market
DESCRIPTION:
URL:https://healthynevada.net/event/vernon-county-farmers-market-12/
LOCATION:Fair Grounds\, Nevada\, MO\, 64772\, United States
END:VEVENT
BEGIN:VEVENT
DTSTART;TZID=UTC:20170729T080000
DTEND;TZID=UTC:20170729T120000
DTSTAMP:20260419T230843
CREATED:20170705T204442Z
LAST-MODIFIED:20170705T204442Z
UID:15985-1501315200-1501329600@healthynevada.net
SUMMARY:Vernon County Farmer's Market
DESCRIPTION:
URL:https://healthynevada.net/event/vernon-county-farmers-market-11/
LOCATION:Fair Grounds\, Nevada\, MO\, 64772\, United States
ORGANIZER;CN="Vernon County Farmer's Market":MAILTO:kelly.ast@healthynevada.net 
END:VEVENT
BEGIN:VEVENT
DTSTART;TZID=UTC:20170726T160000
DTEND;TZID=UTC:20170726T180000
DTSTAMP:20260419T230843
CREATED:20170705T203234Z
LAST-MODIFIED:20170705T203234Z
UID:15983-1501084800-1501092000@healthynevada.net
SUMMARY:Vernon County Farmer's Market
DESCRIPTION:
URL:https://healthynevada.net/event/vernon-county-farmers-market-10/
LOCATION:Fair Grounds\, Nevada\, MO\, 64772\, United States
ORGANIZER;CN="Vernon County Farmer's Market":MAILTO:kelly.ast@healthynevada.net 
END:VEVENT
BEGIN:VEVENT
DTSTART;TZID=UTC:20170725T070000
DTEND;TZID=UTC:20170725T070000
DTSTAMP:20260419T230843
CREATED:20170705T200526Z
LAST-MODIFIED:20170705T200526Z
UID:15965-1500966000-1500966000@healthynevada.net
SUMMARY:Rich Hill Free Health Screening
DESCRIPTION:Kern Senior Center\nProvided by Rich Hill Family Medical Clinic. Each month offers free blood pressure plus and additional free screening of the month as follows:\nJanuary – Bone Density\nFebruary – Eye Screening\nMarch – Cholesterol\nApril – Glucose\nMay – Body Fat/BMI\nJune – Hemoglobin\nJuly – Bone Density\nAugust – Cholesterol\nSeptember – Glucose\nOctober – Eye Screening\nNovember – Hemoglobin\nDecember – Body Fat/BMI
URL:https://healthynevada.net/event/rich-hill-free-health-screening/
LOCATION:Kern Senior Center
END:VEVENT
BEGIN:VEVENT
DTSTART;TZID=UTC:20170722T080000
DTEND;TZID=UTC:20170722T120000
DTSTAMP:20260419T230843
CREATED:20170705T202212Z
LAST-MODIFIED:20170705T202212Z
UID:15976-1500710400-1500724800@healthynevada.net
SUMMARY:Vernon County Farmer's Market
DESCRIPTION:
URL:https://healthynevada.net/event/vernon-county-farmers-market-7/
LOCATION:Fair Grounds\, Nevada\, MO\, 64772\, United States
ORGANIZER;CN="Vernon County Farmer's Market":MAILTO:kelly.ast@healthynevada.net 
END:VEVENT
BEGIN:VEVENT
DTSTART;TZID=UTC:20170719T160000
DTEND;TZID=UTC:20170719T180000
DTSTAMP:20260419T230843
CREATED:20170705T203116Z
LAST-MODIFIED:20170705T203116Z
UID:15981-1500480000-1500487200@healthynevada.net
SUMMARY:Vernon County Farmer's Market
DESCRIPTION:
URL:https://healthynevada.net/event/vernon-county-farmers-market-9/
LOCATION:Fair Grounds\, Nevada\, MO\, 64772\, United States
ORGANIZER;CN="Vernon County Farmer's Market":MAILTO:kelly.ast@healthynevada.net 
END:VEVENT
BEGIN:VEVENT
DTSTART;TZID=UTC:20170719T104500
DTEND;TZID=UTC:20170719T120000
DTSTAMP:20260419T230843
CREATED:20170705T200252Z
LAST-MODIFIED:20170705T200252Z
UID:15962-1500461100-1500465600@healthynevada.net
SUMMARY:Free Blood Pressure Screening
DESCRIPTION:Vernon County Senior Center\nFree Screening\, no registration required.
URL:https://healthynevada.net/event/free-blood-pressure-screening-2/
LOCATION:Vernon County Senior Center
END:VEVENT
END:VCALENDAR