BEGIN:VCALENDAR
VERSION:2.0
PRODID:-//Healthy Nevada - ECPv6.15.20//NONSGML v1.0//EN
CALSCALE:GREGORIAN
METHOD:PUBLISH
X-WR-CALNAME:Healthy Nevada
X-ORIGINAL-URL:https://healthynevada.net
X-WR-CALDESC:Events for Healthy Nevada
REFRESH-INTERVAL;VALUE=DURATION:PT1H
X-Robots-Tag:noindex
X-PUBLISHED-TTL:PT1H
BEGIN:VTIMEZONE
TZID:UTC
BEGIN:STANDARD
TZOFFSETFROM:+0000
TZOFFSETTO:+0000
TZNAME:UTC
DTSTART:20160101T000000
END:STANDARD
END:VTIMEZONE
BEGIN:VEVENT
DTSTART;TZID=UTC:20171106T080000
DTEND;TZID=UTC:20171106T170000
DTSTAMP:20260419T175242
CREATED:20171017T161919Z
LAST-MODIFIED:20171017T161919Z
UID:16154-1509955200-1509987600@healthynevada.net
SUMMARY:EXHIBITIONS IN THE P.E.O. FOUNDATION ART GALLERY
DESCRIPTION:EXHIBITIONS IN THE P.E.O. FOUNDATION ART GALLERY\nTime\n8:00 AM to 5:00 PM\nDetails\nRebecca Allen\, Rebecca Spruill\, Eliza Weber\nThe P.E.O. Foundation Art Gallery is open 8 a.m. – 5 p.m. weekdays and later on the nights performances in the Center for the Arts. Other Viewing hours are available upon request.
URL:https://healthynevada.net/event/exhibitions-p-e-o-foundation-art-gallery-4/
END:VEVENT
BEGIN:VEVENT
DTSTART;TZID=UTC:20171105T080000
DTEND;TZID=UTC:20171105T170000
DTSTAMP:20260419T175242
CREATED:20171017T161800Z
LAST-MODIFIED:20171017T161800Z
UID:16152-1509868800-1509901200@healthynevada.net
SUMMARY:COTTEY EVENTS: MULTICULTURAL FESTIVAL
DESCRIPTION:COTTEY EVENTS: MULTICULTURAL FESTIVAL\nTime\n4:30 PM to 6:30 PM\nDetails\nHinkhouse Center \nThe festival includes food from around the world prepared by Cottey students and other members of the Cottey College community; exhibitions and posters of various countries; a celebration of world cultures\, including performances of music and dance; and an international bazaar to raise funds to support the education of women and girls in Guatemala and other nations. There is no charge to enter the festival and all are welcome. If you wish to eat from the international buffet\, tickets can be purchased at the door. \nFor tickets or more information\, contact the Cottey College Ticket Office or Ms. Kris Korb\, coordinator of campus activities\, at (417) 667-6333\, ext. 2186 or kkorb@cottey.edu
URL:https://healthynevada.net/event/cottey-events-multicultural-festival/
END:VEVENT
BEGIN:VEVENT
DTSTART;TZID=UTC:20171105T080000
DTEND;TZID=UTC:20171105T170000
DTSTAMP:20260419T175242
CREATED:20171017T161002Z
LAST-MODIFIED:20171017T161002Z
UID:16150-1509868800-1509901200@healthynevada.net
SUMMARY:EXHIBITIONS IN THE P.E.O. FOUNDATION ART GALLERY
DESCRIPTION:EXHIBITIONS IN THE P.E.O. FOUNDATION ART GALLERY\nTime\n8:00 AM to 5:00 PM\nDetails\nRebecca Allen\, Rebecca Spruill\, Eliza Weber\nThe P.E.O. Foundation Art Gallery is open 8 a.m. – 5 p.m. weekdays and later on the nights performances in the Center for the Arts. Other Viewing hours are available upon request.
URL:https://healthynevada.net/event/exhibitions-p-e-o-foundation-art-gallery-3/
END:VEVENT
BEGIN:VEVENT
DTSTART;TZID=UTC:20171104T180000
DTEND;TZID=UTC:20171104T230000
DTSTAMP:20260419T175242
CREATED:20171013T162040Z
LAST-MODIFIED:20171013T162040Z
UID:16131-1509818400-1509836400@healthynevada.net
SUMMARY:NRMC GALA
DESCRIPTION:Elks Lodge Bingo Hall\n510 N. Centennial Blvd\, Nevada\, MO 64772 \nSocial Hour Begins at 6 P.M.\, Dinner served at 7 P.M. \nTickets $40/person\nDinner will be served buffet style with two meat options available. \nCostume and Dance Contests\, King and Queen\, Music and Dance Entertainment! \nCocktail Attire or 50s Fashion \n**For sponsorships or employee tickets\, please contact Judith Herstein\nin the NRMC Foundation Office at (417) 448-3620.
URL:https://healthynevada.net/event/nrmc-gala/
LOCATION:Nevada Elks Bingo Hall\, 510 Centennial Blvd\, Nevada\, MO\, 64772\, United States
END:VEVENT
BEGIN:VEVENT
DTSTART;TZID=UTC:20171104T080000
DTEND;TZID=UTC:20171104T170000
DTSTAMP:20260419T175242
CREATED:20171017T160928Z
LAST-MODIFIED:20171017T160928Z
UID:16148-1509782400-1509814800@healthynevada.net
SUMMARY:EXHIBITIONS IN THE P.E.O. FOUNDATION ART GALLERY
DESCRIPTION:EXHIBITIONS IN THE P.E.O. FOUNDATION ART GALLERY\nTime\n8:00 AM to 5:00 PM\nDetails\nRebecca Allen\, Rebecca Spruill\, Eliza Weber\nThe P.E.O. Foundation Art Gallery is open 8 a.m. – 5 p.m. weekdays and later on the nights performances in the Center for the Arts. Other Viewing hours are available upon request.
URL:https://healthynevada.net/event/exhibitions-p-e-o-foundation-art-gallery-2/
END:VEVENT
BEGIN:VEVENT
DTSTART;TZID=UTC:20171104T080000
DTEND;TZID=UTC:20171104T170000
DTSTAMP:20260419T175242
CREATED:20171017T160616Z
LAST-MODIFIED:20171017T160616Z
UID:16146-1509782400-1509814800@healthynevada.net
SUMMARY:THE COMPLETE WORKS OF WILLIAM SHAKESPEARE
DESCRIPTION:THE COMPLETE WORKS OF WILLIAM SHAKESPEARE\nTime\n8:00 AM\nDetails\nAuditorium\, $5/$4\, ticket\nThe Reduced (by Women) Shakespeare Co. of Cottey College Presents- The Complete Works of William Shakespeare (Abridged) – Shakespeare said “Brevity is the soul of wit” so take a madcap whirlwind trip through all of his plays (yep\, that’s right ALL of them). We’ll set a timer to get you out of the play on time! (Or\, if you want the longer versions\, bring a sleeping bag and supplies for a month.) Directed by Rusalyn Andrew\, Ph.D. \nFor tickets or more information\, contact the Cottey College Ticket Office or Ms. Kris Korb\, coordinator of campus activities\, at (417) 667-6333\, ext. 2186 or kkorb@cottey.edu
URL:https://healthynevada.net/event/complete-works-william-shakespeare-2/
END:VEVENT
BEGIN:VEVENT
DTSTART;TZID=UTC:20171104T080000
DTEND;TZID=UTC:20171104T120000
DTSTAMP:20260419T175242
CREATED:20171013T163456Z
LAST-MODIFIED:20171013T163456Z
UID:16133-1509782400-1509796800@healthynevada.net
SUMMARY:Fall Clean Up Day
DESCRIPTION:Vernon County Fairgrounds\n1448 E. Ashland St.\nFor more information call 417-649-6400
URL:https://healthynevada.net/event/fall-clean-day/
LOCATION:Fair Grounds\, Nevada\, MO\, 64772\, United States
END:VEVENT
BEGIN:VEVENT
DTSTART;TZID=UTC:20171103T080000
DTEND;TZID=UTC:20171103T170000
DTSTAMP:20260419T175242
CREATED:20171017T160533Z
LAST-MODIFIED:20171017T160533Z
UID:16144-1509696000-1509728400@healthynevada.net
SUMMARY:EXHIBITIONS IN THE P.E.O. FOUNDATION ART GALLERY
DESCRIPTION:EXHIBITIONS IN THE P.E.O. FOUNDATION ART GALLERY\nTime\n8:00 AM to 5:00 PM\nDetails\nTeresa Mastro\nThe P.E.O. Foundation Art Gallery is open 8 a.m. – 5 p.m. weekdays and later on the nights performances in the Center for the Arts. Other Viewing hours are available upon request.
URL:https://healthynevada.net/event/exhibitions-p-e-o-foundation-art-gallery/
END:VEVENT
BEGIN:VEVENT
DTSTART;TZID=UTC:20171103T080000
DTEND;TZID=UTC:20171103T170000
DTSTAMP:20260419T175242
CREATED:20171017T160453Z
LAST-MODIFIED:20171017T160453Z
UID:16142-1509696000-1509728400@healthynevada.net
SUMMARY:THE COMPLETE WORKS OF WILLIAM SHAKESPEARE
DESCRIPTION:THE COMPLETE WORKS OF WILLIAM SHAKESPEARE\nTime\n8:00 AM\nDetails\nAuditorium\, $5/$4\, ticket\nThe Reduced (by Women) Shakespeare Co. of Cottey College Presents- The Complete Works of William Shakespeare (Abridged) – Shakespeare said “Brevity is the soul of wit” so take a madcap whirlwind trip through all of his plays (yep\, that’s right ALL of them). We’ll set a timer to get you out of the play on time! (Or\, if you want the longer versions\, bring a sleeping bag and supplies for a month.) Directed by Rusalyn Andrew\, Ph.D. \nFor tickets or more information\, contact the Cottey College Ticket Office or Ms. Kris Korb\, coordinator of campus activities\, at (417) 667-6333\, ext. 2186 or kkorb@cottey.edu
URL:https://healthynevada.net/event/complete-works-william-shakespeare/
END:VEVENT
BEGIN:VEVENT
DTSTART;TZID=UTC:20171101T153000
DTEND;TZID=UTC:20171101T163000
DTSTAMP:20260419T175242
CREATED:20171017T160031Z
LAST-MODIFIED:20171017T160031Z
UID:16140-1509550200-1509553800@healthynevada.net
SUMMARY:Self Determination Class - On My Own
DESCRIPTION:Time\n3:30 PM to 4:30 PM\nDetails\nStudents in 8-12 grades. Includes communication skills\, assertiveness\, listening skills\, developing goals and transition plans\, hands on problem solving\, independent living skills\, decision making and leadership skills
URL:https://healthynevada.net/event/self-determination-class-5/
LOCATION:On My Own\, 428 E Highland Ave\, Nevada\, MO\, 64772\, United States
END:VEVENT
BEGIN:VEVENT
DTSTART;TZID=UTC:20171101T130000
DTEND;TZID=UTC:20171101T140000
DTSTAMP:20260419T175242
CREATED:20171017T155650Z
LAST-MODIFIED:20171017T155820Z
UID:16137-1509541200-1509544800@healthynevada.net
SUMMARY:Social & Life Skills Class - On My Own
DESCRIPTION:Time\n1:00 PM to 2:00 PM\nDetails\nDealing with authority\, anger management and medication management.
URL:https://healthynevada.net/event/social-life-skills-class-6/
LOCATION:On My Own\, 428 E Highland Ave\, Nevada\, MO\, 64772\, United States
END:VEVENT
BEGIN:VEVENT
DTSTART;TZID=UTC:20171019T180000
DTEND;TZID=UTC:20171019T203000
DTSTAMP:20260419T175242
CREATED:20171013T142834Z
LAST-MODIFIED:20171013T142834Z
UID:16125-1508436000-1508445000@healthynevada.net
SUMMARY:Birth & Beyond Class Tues/Thurs Class
DESCRIPTION:
URL:https://healthynevada.net/event/birth-beyond-class-tuesthurs-class/
LOCATION:NRMC Mezzainine Conference Room\, 800 S. Ash Street\, Nevada\, MO\, 64772\, United States
END:VEVENT
BEGIN:VEVENT
DTSTART;TZID=UTC:20171019T153000
DTEND;TZID=UTC:20171019T190000
DTSTAMP:20260419T175242
CREATED:20171013T143205Z
LAST-MODIFIED:20171013T143205Z
UID:16127-1508427000-1508439600@healthynevada.net
SUMMARY:Ladies Night
DESCRIPTION:
URL:https://healthynevada.net/event/ladies-night/
LOCATION:NRMC Main Lobby\, 800 S Ash St\,\, Nevada\, MO\, 64772\, United States
END:VEVENT
BEGIN:VEVENT
DTSTART;TZID=UTC:20171017T180000
DTEND;TZID=UTC:20171017T203000
DTSTAMP:20260419T175242
CREATED:20171013T141421Z
LAST-MODIFIED:20171013T141421Z
UID:16123-1508263200-1508272200@healthynevada.net
SUMMARY:Birth & Beyond  Tues/Thurs Class
DESCRIPTION:
URL:https://healthynevada.net/event/birth-beyond-tuesthurs-class/
LOCATION:NRMC Mezzainine Conference Room\, 800 S. Ash Street\, Nevada\, MO\, 64772\, United States
END:VEVENT
BEGIN:VEVENT
DTSTART;TZID=UTC:20170930T080000
DTEND;TZID=UTC:20170930T120000
DTSTAMP:20260419T175242
CREATED:20170830T191240Z
LAST-MODIFIED:20170830T191240Z
UID:16103-1506758400-1506772800@healthynevada.net
SUMMARY:Nevada/Vernon County Farmers Market
DESCRIPTION:
URL:https://healthynevada.net/event/nevadavernon-county-farmers-market-7/
LOCATION:Fair Grounds\, Nevada\, MO\, 64772\, United States
ORGANIZER;CN="Vernon County Farmer's Market":MAILTO:kelly.ast@healthynevada.net 
END:VEVENT
BEGIN:VEVENT
DTSTART;TZID=UTC:20170927T160000
DTEND;TZID=UTC:20170927T180000
DTSTAMP:20260419T175242
CREATED:20170830T190856Z
LAST-MODIFIED:20170830T190856Z
UID:16095-1506528000-1506535200@healthynevada.net
SUMMARY:Nevada/Vernon County Farmers Market
DESCRIPTION:
URL:https://healthynevada.net/event/nevadavernon-county-farmers-market-3/
LOCATION:Fair Grounds\, Nevada\, MO\, 64772\, United States
ORGANIZER;CN="Vernon County Farmer's Market":MAILTO:kelly.ast@healthynevada.net 
END:VEVENT
BEGIN:VEVENT
DTSTART;TZID=UTC:20170927T153000
DTEND;TZID=UTC:20170927T163000
DTSTAMP:20260419T175242
CREATED:20170830T185229Z
LAST-MODIFIED:20170830T185229Z
UID:16081-1506526200-1506529800@healthynevada.net
SUMMARY:Self Determination Class - On My Own
DESCRIPTION:
URL:https://healthynevada.net/event/self-determination-class-4/
LOCATION:On My Own\, 428 E Highland Ave\, Nevada\, MO\, 64772\, United States
END:VEVENT
BEGIN:VEVENT
DTSTART;TZID=UTC:20170927T130000
DTEND;TZID=UTC:20170927T140000
DTSTAMP:20260419T175242
CREATED:20170830T185812Z
LAST-MODIFIED:20170830T185812Z
UID:16089-1506517200-1506520800@healthynevada.net
SUMMARY:Social & Life Skills Class - On My Own
DESCRIPTION:
URL:https://healthynevada.net/event/social-life-skills-class-5/
LOCATION:On My Own\, 428 E Highland Ave\, Nevada\, MO\, 64772\, United States
END:VEVENT
BEGIN:VEVENT
DTSTART;TZID=UTC:20170926T130000
DTEND;TZID=UTC:20170926T150000
DTSTAMP:20260419T175242
CREATED:20170830T182815Z
LAST-MODIFIED:20170830T185043Z
UID:16072-1506430800-1506438000@healthynevada.net
SUMMARY:Cooking & Household Skills - On My Own
DESCRIPTION:
URL:https://healthynevada.net/event/cookin-household-skills/
LOCATION:On My Own\, 428 E Highland Ave\, Nevada\, MO\, 64772\, United States
END:VEVENT
BEGIN:VEVENT
DTSTART;TZID=UTC:20170926T110000
DTEND;TZID=UTC:20170926T120000
DTSTAMP:20260419T175242
CREATED:20170830T181810Z
LAST-MODIFIED:20170830T181810Z
UID:16065-1506423600-1506427200@healthynevada.net
SUMMARY:Budgeting Class - On My Own
DESCRIPTION:
URL:https://healthynevada.net/event/budgeting-class-on-my-own-4/
LOCATION:On My Own\, 428 E Highland Ave\, Nevada\, MO\, 64772\, United States
END:VEVENT
BEGIN:VEVENT
DTSTART;TZID=UTC:20170925T130000
DTEND;TZID=UTC:20170925T140000
DTSTAMP:20260419T175242
CREATED:20170830T181023Z
LAST-MODIFIED:20170830T181023Z
UID:16057-1506344400-1506348000@healthynevada.net
SUMMARY:Job Skills and Training - On My Own
DESCRIPTION:
URL:https://healthynevada.net/event/job-skills-training-3/
LOCATION:On My Own\, 428 E Highland Ave\, Nevada\, MO\, 64772\, United States
END:VEVENT
BEGIN:VEVENT
DTSTART;TZID=UTC:20170923T080000
DTEND;TZID=UTC:20170923T120000
DTSTAMP:20260419T175242
CREATED:20170830T191129Z
LAST-MODIFIED:20170830T191129Z
UID:16101-1506153600-1506168000@healthynevada.net
SUMMARY:Nevada/Vernon County Farmers Market
DESCRIPTION:
URL:https://healthynevada.net/event/nevadavernon-county-farmers-market-6/
LOCATION:On My Own\, 428 E Highland Ave\, Nevada\, MO\, 64772\, United States
ORGANIZER;CN="Vernon County Farmer's Market":MAILTO:kelly.ast@healthynevada.net 
END:VEVENT
BEGIN:VEVENT
DTSTART;TZID=UTC:20170920T160000
DTEND;TZID=UTC:20170920T180000
DTSTAMP:20260419T175242
CREATED:20170830T190809Z
LAST-MODIFIED:20170830T190809Z
UID:16093-1505923200-1505930400@healthynevada.net
SUMMARY:Nevada/Vernon County Farmers Market
DESCRIPTION:
URL:https://healthynevada.net/event/nevadavernon-county-farmers-market-2/
LOCATION:Fair Grounds\, Nevada\, MO\, 64772\, United States
ORGANIZER;CN="Vernon County Farmer's Market":MAILTO:kelly.ast@healthynevada.net 
END:VEVENT
BEGIN:VEVENT
DTSTART;TZID=UTC:20170920T153000
DTEND;TZID=UTC:20170920T163000
DTSTAMP:20260419T175242
CREATED:20170830T185005Z
LAST-MODIFIED:20170830T185022Z
UID:16078-1505921400-1505925000@healthynevada.net
SUMMARY:Self Determination Class - On My Own
DESCRIPTION:
URL:https://healthynevada.net/event/self-determination-class-3/
LOCATION:On My Own\, 428 E Highland Ave\, Nevada\, MO\, 64772\, United States
END:VEVENT
BEGIN:VEVENT
DTSTART;TZID=UTC:20170920T130000
DTEND;TZID=UTC:20170920T140000
DTSTAMP:20260419T175242
CREATED:20170830T185729Z
LAST-MODIFIED:20170830T185729Z
UID:16087-1505912400-1505916000@healthynevada.net
SUMMARY:Social & Life Skills Class - On My Own
DESCRIPTION:
URL:https://healthynevada.net/event/social-life-skills-class-4/
LOCATION:On My Own\, 428 E Highland Ave\, Nevada\, MO\, 64772\, United States
END:VEVENT
BEGIN:VEVENT
DTSTART;TZID=UTC:20170919T130000
DTEND;TZID=UTC:20170919T150000
DTSTAMP:20260419T175242
CREATED:20170830T182725Z
LAST-MODIFIED:20170830T182725Z
UID:16070-1505826000-1505833200@healthynevada.net
SUMMARY:Cooking & Household Skills - On My Own
DESCRIPTION:
URL:https://healthynevada.net/event/cooking-household-skills-3/
LOCATION:On My Own\, 428 E Highland Ave\, Nevada\, MO\, 64772\, United States
END:VEVENT
BEGIN:VEVENT
DTSTART;TZID=UTC:20170919T110000
DTEND;TZID=UTC:20170919T120000
DTSTAMP:20260419T175242
CREATED:20170830T181656Z
LAST-MODIFIED:20170830T181656Z
UID:16063-1505818800-1505822400@healthynevada.net
SUMMARY:Budgeting Class - On My Own
DESCRIPTION:
URL:https://healthynevada.net/event/budgeting-class-on-my-own-3/
LOCATION:On My Own\, 428 E Highland Ave\, Nevada\, MO\, 64772\, United States
END:VEVENT
BEGIN:VEVENT
DTSTART;TZID=UTC:20170918T130000
DTEND;TZID=UTC:20170918T140000
DTSTAMP:20260419T175242
CREATED:20170830T180730Z
LAST-MODIFIED:20170830T180730Z
UID:16055-1505739600-1505743200@healthynevada.net
SUMMARY:Job Skills and Training - On My Own
DESCRIPTION:
URL:https://healthynevada.net/event/job-skills-training/
LOCATION:On My Own\, 428 E Highland Ave\, Nevada\, MO\, 64772\, United States
END:VEVENT
BEGIN:VEVENT
DTSTART;TZID=UTC:20170916T080000
DTEND;TZID=UTC:20170916T123000
DTSTAMP:20260419T175242
CREATED:20170830T193244Z
LAST-MODIFIED:20170830T193244Z
UID:16107-1505548800-1505565000@healthynevada.net
SUMMARY:Birth & Beyond Class - NRMC
DESCRIPTION:
URL:https://healthynevada.net/event/birth-beyond-class-nrmc-2/
END:VEVENT
BEGIN:VEVENT
DTSTART;TZID=UTC:20170916T080000
DTEND;TZID=UTC:20170916T120000
DTSTAMP:20260419T175242
CREATED:20170830T191038Z
LAST-MODIFIED:20170830T191038Z
UID:16099-1505548800-1505563200@healthynevada.net
SUMMARY:Nevada/Vernon County Farmers Market
DESCRIPTION:
URL:https://healthynevada.net/event/nevadavernon-county-farmers-market-5/
LOCATION:Fair Grounds\, Nevada\, MO\, 64772\, United States
ORGANIZER;CN="Vernon County Farmer's Market":MAILTO:kelly.ast@healthynevada.net 
END:VEVENT
END:VCALENDAR